BEGIN:VCALENDAR
VERSION:2.0
PRODID:icalendar-ruby
CALSCALE:GREGORIAN
METHOD:PUBLISH
BEGIN:VEVENT
DTSTAMP:20260424T123058Z
UID:5-402910@lighthouseofhopehc.com
DTSTART:20261101T180000Z
DTEND:20261101T190000Z
CLASS:PUBLIC
CREATED:20260423T200513
DESCRIPTION:Sunday Worship
LAST-MODIFIED:20260423T200513
LOCATION:
SUMMARY:Sunday Worship
URL;VALUE=URI:https://www.lighthouseofhopehc.com/events/sunday-worship/2026
 -11-01
END:VEVENT
END:VCALENDAR
